BEGIN:VCALENDAR
VERSION:2.0
PRODID:-//SIIJLA - ECPv6.8.3//NONSGML v1.0//EN
CALSCALE:GREGORIAN
METHOD:PUBLISH
X-WR-CALNAME:SIIJLA
X-ORIGINAL-URL:https://www.lajamaat.org
X-WR-CALDESC:Events for SIIJLA
REFRESH-INTERVAL;VALUE=DURATION:PT1H
X-Robots-Tag:noindex
X-PUBLISHED-TTL:PT1H
BEGIN:VTIMEZONE
TZID:America/Los_Angeles
BEGIN:DAYLIGHT
TZOFFSETFROM:-0800
TZOFFSETTO:-0700
TZNAME:PDT
DTSTART:20220313T100000
END:DAYLIGHT
BEGIN:STANDARD
TZOFFSETFROM:-0700
TZOFFSETTO:-0800
TZNAME:PST
DTSTART:20221106T090000
END:STANDARD
END:VTIMEZONE
BEGIN:VEVENT
DTSTART;TZID=America/Los_Angeles:20220628T203000
DTEND;TZID=America/Los_Angeles:20220628T220000
DTSTAMP:20260423T184932
CREATED:20220628T133932Z
LAST-MODIFIED:20220628T134344Z
UID:2935-1656448200-1656453600@www.lajamaat.org
SUMMARY:Shahadat of the 9th Imam Mohammad Taqi AS
DESCRIPTION:Program Details:\nOnline Program \n\n8:45pm – Quran \n\n8:55pm – Dua Tawassul \n\n9:15pm – Majlis \n\n9:45pm – Maatam \n\n10:00pm – Ziyarat
URL:https://www.lajamaat.org/event/15th-night-of-ramadhan-wiladat-of-imam-hasan-as-3-3/
LOCATION:Online Program\, YouTube
CATEGORIES:Event,Shahadat
ORGANIZER;CN="SIIJLA":MAILTO:siijla@lajamaat.org
END:VEVENT
END:VCALENDAR