BEGIN:VCALENDAR
VERSION:2.0
PRODID:-//SIIJLA - ECPv6.8.3//NONSGML v1.0//EN
CALSCALE:GREGORIAN
METHOD:PUBLISH
X-ORIGINAL-URL:https://www.lajamaat.org
X-WR-CALDESC:Events for SIIJLA
REFRESH-INTERVAL;VALUE=DURATION:PT1H
X-Robots-Tag:noindex
X-PUBLISHED-TTL:PT1H
BEGIN:VTIMEZONE
TZID:UTC
BEGIN:STANDARD
TZOFFSETFROM:+0000
TZOFFSETTO:+0000
TZNAME:UTC
DTSTART:20210101T000000
END:STANDARD
END:VTIMEZONE
BEGIN:VEVENT
DTSTART;TZID=UTC:20211114T200000
DTEND;TZID=UTC:20211114T213000
DTSTAMP:20260425T192241
CREATED:20211031T191247Z
LAST-MODIFIED:20211115T001508Z
UID:2395-1636920000-1636925400@www.lajamaat.org
SUMMARY:Wiladat of Imam Hasan Al Askari (ONLINE PROGRAM)
DESCRIPTION:Program Details:\nOnline Program Only \nZOOM: https://us06web.zoom.us/j/5149264850?pwd=U3JJVS9pdi96RElySGc0clo4OFllUT09 \n\n8:00pm – Hadees e Kisa – Abbas Ali Fazal \n\n8:15pm – Speech – YouTube Speaker – Shaykh Usama Al Attar \n\n9:00pm – Qasida / Manqabat – Amin Dhala \n\n9:05pm – Ziyarat – Fatema Fazal
URL:https://www.lajamaat.org/event/wiladat-of-imam-hasan-al-askari/
LOCATION:Online Program\, YouTube
CATEGORIES:Jashan
ATTACH;FMTTYPE=image/jpeg:https://www.lajamaat.org/wp-content/uploads/2021/10/2000x1200_event_askari-2.jpg
ORGANIZER;CN="SIIJLA":MAILTO:siijla@lajamaat.org
END:VEVENT
END:VCALENDAR