BEGIN:VCALENDAR
VERSION:2.0
PRODID:-//SIIJLA - ECPv6.8.3//NONSGML v1.0//EN
CALSCALE:GREGORIAN
METHOD:PUBLISH
X-WR-CALNAME:SIIJLA
X-ORIGINAL-URL:https://www.lajamaat.org
X-WR-CALDESC:Events for SIIJLA
REFRESH-INTERVAL;VALUE=DURATION:PT1H
X-Robots-Tag:noindex
X-PUBLISHED-TTL:PT1H
BEGIN:VTIMEZONE
TZID:UTC
BEGIN:STANDARD
TZOFFSETFROM:+0000
TZOFFSETTO:+0000
TZNAME:UTC
DTSTART:20210101T000000
END:STANDARD
END:VTIMEZONE
BEGIN:VEVENT
DTSTART;TZID=UTC:20211211T170000
DTEND;TZID=UTC:20211211T190000
DTSTAMP:20260425T180313
CREATED:20211031T192607Z
LAST-MODIFIED:20211207T034617Z
UID:2402-1639242000-1639249200@www.lajamaat.org
SUMMARY:Wiladat of Bibi Zainab SA
DESCRIPTION:Program Details:\nIn Person Program & Online via YouTube \nCenter opens at 4:45pm5:00pm – Maghrib Prayers\n5:30pm – Surah Yaseen \n\n5:45pm – Speech – Live Speaker – Sayed Abbas Razavian \n6:30pm – Qasida / Manqabat6:45pm – ZiyaratDinner
URL:https://www.lajamaat.org/event/wiladat-of-bibi-zainab-sa/
LOCATION:SIIJLA\, 7925 Serapis Ave\, Pico Rivera\, CA\, 90660\, United States
CATEGORIES:Jashan
ATTACH;FMTTYPE=image/jpeg:https://www.lajamaat.org/wp-content/uploads/2021/10/2000x1200_event_ladyzainab-2.jpg
ORGANIZER;CN="SIIJLA":MAILTO:siijla@lajamaat.org
END:VEVENT
END:VCALENDAR