BEGIN:VCALENDAR
VERSION:2.0
PRODID:-//SIIJLA - ECPv6.8.3//NONSGML v1.0//EN
CALSCALE:GREGORIAN
METHOD:PUBLISH
X-ORIGINAL-URL:https://www.lajamaat.org
X-WR-CALDESC:Events for SIIJLA
REFRESH-INTERVAL;VALUE=DURATION:PT1H
X-Robots-Tag:noindex
X-PUBLISHED-TTL:PT1H
BEGIN:VTIMEZONE
TZID:America/Los_Angeles
BEGIN:DAYLIGHT
TZOFFSETFROM:-0800
TZOFFSETTO:-0700
TZNAME:PDT
DTSTART:20220313T100000
END:DAYLIGHT
BEGIN:STANDARD
TZOFFSETFROM:-0700
TZOFFSETTO:-0800
TZNAME:PST
DTSTART:20221106T090000
END:STANDARD
END:VTIMEZONE
BEGIN:VEVENT
DTSTART;TZID=America/Los_Angeles:20221008T170000
DTEND;TZID=America/Los_Angeles:20221008T200000
DTSTAMP:20260425T054918
CREATED:20221001T190755Z
LAST-MODIFIED:20221001T191526Z
UID:2997-1665248400-1665259200@www.lajamaat.org
SUMMARY:Rabi-ul-Awwal 1444 - Eid e Zehra
DESCRIPTION:Program Details:\nIn Person Program & Online \n\n5:00pm – Hadith e Kisa \n\n5:15pm – Majlis –  Sayed Mahdi Qazwini \n\n6:00pm – Qasida / Manqabat \n\n6:15pm – Ziyarat and Announcements \n\n6:30pm – Maghrib Prayer \n\n7:00pm – Dinner
URL:https://www.lajamaat.org/event/eid-e-zehra-2022/
LOCATION:SIIJLA\, 7925 Serapis Ave\, Pico Rivera\, CA\, 90660\, United States
CATEGORIES:Jashan
ATTACH;FMTTYPE=image/png:https://www.lajamaat.org/wp-content/uploads/2022/10/Eid-e-Zehra.png
ORGANIZER;CN="SIIJLA":MAILTO:siijla@lajamaat.org
END:VEVENT
BEGIN:VEVENT
DTSTART;TZID=America/Los_Angeles:20221015T170000
DTEND;TZID=America/Los_Angeles:20221015T200000
DTSTAMP:20260425T054918
CREATED:20221001T191419Z
LAST-MODIFIED:20221001T191600Z
UID:3001-1665853200-1665864000@www.lajamaat.org
SUMMARY:Rabi-ul-Awwal 1444 - Wiladat of Prophet Muhammad SAW and Imam Jafar as Sadiq AS
DESCRIPTION:Program Details:\nIn Person Program & Online \n\n5:00pm – Hadith e Kisa \n\n5:15pm – Majlis \n\n6:00pm – Qasida / Manqabat \n\n6:15pm – Ziyarat and Announcements \n\n6:30pm – Maghrib Prayer \n\n7:00pm – Dinner
URL:https://www.lajamaat.org/event/milad-un-nabi-2022/
LOCATION:SIIJLA\, 7925 Serapis Ave\, Pico Rivera\, CA\, 90660\, United States
CATEGORIES:Jashan
ATTACH;FMTTYPE=image/png:https://www.lajamaat.org/wp-content/uploads/2022/10/Milad-un-Nabi-2022.png
ORGANIZER;CN="SIIJLA":MAILTO:siijla@lajamaat.org
END:VEVENT
END:VCALENDAR