BEGIN:VCALENDAR
VERSION:2.0
PRODID:-//SIIJLA - ECPv6.8.3//NONSGML v1.0//EN
CALSCALE:GREGORIAN
METHOD:PUBLISH
X-WR-CALNAME:SIIJLA
X-ORIGINAL-URL:https://www.lajamaat.org
X-WR-CALDESC:Events for SIIJLA
REFRESH-INTERVAL;VALUE=DURATION:PT1H
X-Robots-Tag:noindex
X-PUBLISHED-TTL:PT1H
BEGIN:VTIMEZONE
TZID:America/Los_Angeles
BEGIN:DAYLIGHT
TZOFFSETFROM:-0800
TZOFFSETTO:-0700
TZNAME:PDT
DTSTART:20230312T100000
END:DAYLIGHT
BEGIN:STANDARD
TZOFFSETFROM:-0700
TZOFFSETTO:-0800
TZNAME:PST
DTSTART:20231105T090000
END:STANDARD
END:VTIMEZONE
BEGIN:VEVENT
DTSTART;TZID=America/Los_Angeles:20230706T204500
DTEND;TZID=America/Los_Angeles:20230706T223000
DTSTAMP:20260424T181107
CREATED:20230610T211408Z
LAST-MODIFIED:20230610T211408Z
UID:3078-1688676300-1688682600@www.lajamaat.org
SUMMARY:Dhul Hijjah1444 - Wiladat of 10th Imam Ali un Naqi AS [ONLINE Only]
DESCRIPTION:Program Details:\nOnline Program via Zoom and YouTube
URL:https://www.lajamaat.org/event/wiladat-of-10th-imam-ali-un-naqi-as-2023/
LOCATION:Online Program\, YouTube
CATEGORIES:Event,Jashan
ATTACH;FMTTYPE=image/jpeg:https://www.lajamaat.org/wp-content/uploads/2021/10/Imam-Hasan-Askari-3.jpg
ORGANIZER;CN="SIIJLA":MAILTO:siijla@lajamaat.org
END:VEVENT
BEGIN:VEVENT
DTSTART;TZID=America/Los_Angeles:20230708T190000
DTEND;TZID=America/Los_Angeles:20230708T220000
DTSTAMP:20260424T181107
CREATED:20230610T211823Z
LAST-MODIFIED:20230610T211823Z
UID:3080-1688842800-1688853600@www.lajamaat.org
SUMMARY:Dhul Hijjah1444 - Eid e Ghadeer
DESCRIPTION:Program Details:\nIn person and Online via YouTube
URL:https://www.lajamaat.org/event/wiladat-of-10th-imam-ali-un-naqi-as-2023-2/
LOCATION:SIIJLA\, 7925 Serapis Ave\, Pico Rivera\, CA\, 90660\, United States
CATEGORIES:Event,Jashan
ATTACH;FMTTYPE=image/jpeg:https://www.lajamaat.org/wp-content/uploads/2021/10/Imam-Hasan-Askari-3.jpg
ORGANIZER;CN="SIIJLA":MAILTO:siijla@lajamaat.org
END:VEVENT
BEGIN:VEVENT
DTSTART;TZID=America/Los_Angeles:20230715T190000
DTEND;TZID=America/Los_Angeles:20230715T220000
DTSTAMP:20260424T181107
CREATED:20230611T214431Z
LAST-MODIFIED:20230611T214431Z
UID:3086-1689447600-1689458400@www.lajamaat.org
SUMMARY:Dhul Hijjah 1444 - Eid e Mubahela
DESCRIPTION:Program Details:\nIn person and Online via YouTube
URL:https://www.lajamaat.org/event/eid-e-mubahela-2023/
LOCATION:SIIJLA\, 7925 Serapis Ave\, Pico Rivera\, CA\, 90660\, United States
CATEGORIES:Event,Jashan
ATTACH;FMTTYPE=image/jpeg:https://www.lajamaat.org/wp-content/uploads/2021/10/Imam-Hasan-Askari-3.jpg
ORGANIZER;CN="SIIJLA":MAILTO:siijla@lajamaat.org
END:VEVENT
END:VCALENDAR