BEGIN:VCALENDAR
VERSION:2.0
PRODID:-//SIIJLA - ECPv6.8.3//NONSGML v1.0//EN
CALSCALE:GREGORIAN
METHOD:PUBLISH
X-WR-CALNAME:SIIJLA
X-ORIGINAL-URL:https://www.lajamaat.org
X-WR-CALDESC:Events for SIIJLA
REFRESH-INTERVAL;VALUE=DURATION:PT1H
X-Robots-Tag:noindex
X-PUBLISHED-TTL:PT1H
BEGIN:VTIMEZONE
TZID:America/Los_Angeles
BEGIN:DAYLIGHT
TZOFFSETFROM:-0800
TZOFFSETTO:-0700
TZNAME:PDT
DTSTART:20220313T100000
END:DAYLIGHT
BEGIN:STANDARD
TZOFFSETFROM:-0700
TZOFFSETTO:-0800
TZNAME:PST
DTSTART:20221106T090000
END:STANDARD
END:VTIMEZONE
BEGIN:VEVENT
DTSTART;TZID=America/Los_Angeles:20221105T180000
DTEND;TZID=America/Los_Angeles:20221105T180000
DTSTAMP:20260425T054230
CREATED:20221001T192228Z
LAST-MODIFIED:20221001T192228Z
UID:3007-1667671200-1667671200@www.lajamaat.org
SUMMARY:Rabi-ul-Thani 1444 - Wiladat of Imam Hasan Al Askari
DESCRIPTION:Program Details:\n\n6:00pm – Hadees e Kisa \n\n6:15pm – Majlis \n\n7:00pm – Qasida / Manqabat \n\n7:05pm – Ziyarat
URL:https://www.lajamaat.org/event/wiladat-of-imam-hasan-al-askari-2022/
LOCATION:CA
CATEGORIES:Jashan
ATTACH;FMTTYPE=image/jpeg:https://www.lajamaat.org/wp-content/uploads/2021/10/2000x1200_event_askari-2.jpg
END:VEVENT
END:VCALENDAR