BEGIN:VCALENDAR
VERSION:2.0
PRODID:-//SIIJLA - ECPv6.8.3//NONSGML v1.0//EN
CALSCALE:GREGORIAN
METHOD:PUBLISH
X-ORIGINAL-URL:https://www.lajamaat.org
X-WR-CALDESC:Events for SIIJLA
REFRESH-INTERVAL;VALUE=DURATION:PT1H
X-Robots-Tag:noindex
X-PUBLISHED-TTL:PT1H
BEGIN:VTIMEZONE
TZID:America/Los_Angeles
BEGIN:DAYLIGHT
TZOFFSETFROM:-0800
TZOFFSETTO:-0700
TZNAME:PDT
DTSTART:20220313T100000
END:DAYLIGHT
BEGIN:STANDARD
TZOFFSETFROM:-0700
TZOFFSETTO:-0800
TZNAME:PST
DTSTART:20221106T090000
END:STANDARD
END:VTIMEZONE
BEGIN:VEVENT
DTSTART;TZID=America/Los_Angeles:20221203T170000
DTEND;TZID=America/Los_Angeles:20221203T200000
DTSTAMP:20260425T042418
CREATED:20221001T192529Z
LAST-MODIFIED:20221001T193046Z
UID:3009-1670086800-1670097600@www.lajamaat.org
SUMMARY:Jamad-ul-Awwal 1444 - Wiladat of Bibi Zainab SA
DESCRIPTION:Program Details:\nIn Person Program & Online via YouTube \nCenter opens at 4:45pm5:00pm – Maghrib Prayers\n5:30pm – Surah Yaseen \n\n5:45pm – Speech – Live Speaker \n6:30pm – Qasida / Manqabat6:45pm – ZiyaratDinner
URL:https://www.lajamaat.org/event/wiladat-of-bibi-zainab-sa-2022/
LOCATION:CA
CATEGORIES:Jashan
ATTACH;FMTTYPE=image/jpeg:https://www.lajamaat.org/wp-content/uploads/2021/10/2000x1200_event_ladyzainab-2.jpg
END:VEVENT
END:VCALENDAR