BEGIN:VCALENDAR
VERSION:2.0
PRODID:-//SIIJLA - ECPv6.8.3//NONSGML v1.0//EN
CALSCALE:GREGORIAN
METHOD:PUBLISH
X-WR-CALNAME:SIIJLA
X-ORIGINAL-URL:https://www.lajamaat.org
X-WR-CALDESC:Events for SIIJLA
REFRESH-INTERVAL;VALUE=DURATION:PT1H
X-Robots-Tag:noindex
X-PUBLISHED-TTL:PT1H
BEGIN:VTIMEZONE
TZID:America/Los_Angeles
BEGIN:DAYLIGHT
TZOFFSETFROM:-0800
TZOFFSETTO:-0700
TZNAME:PDT
DTSTART:20250309T100000
END:DAYLIGHT
BEGIN:STANDARD
TZOFFSETFROM:-0700
TZOFFSETTO:-0800
TZNAME:PST
DTSTART:20251102T090000
END:STANDARD
END:VTIMEZONE
BEGIN:VEVENT
DTSTART;TZID=America/Los_Angeles:20250510T183000
DTEND;TZID=America/Los_Angeles:20250510T213000
DTSTAMP:20260419T181630
CREATED:20250420T211637Z
LAST-MODIFIED:20250420T211637Z
UID:3212-1746901800-1746912600@www.lajamaat.org
SUMMARY:Dhul Qadah 1446 - Wiladat of Imam Ali Redha
DESCRIPTION:Program Details:\nIn Person Program & Online via YouTube
URL:https://www.lajamaat.org/event/dhul-qadah-1446-wiladat-of-imam-ali-redha/
LOCATION:SIIJLA\, 7925 Serapis Ave\, Pico Rivera\, CA\, 90660\, United States
CATEGORIES:Jashan
ATTACH;FMTTYPE=image/jpeg:https://www.lajamaat.org/wp-content/uploads/2021/10/2000x1200_event_ladyzainab-2.jpg
ORGANIZER;CN="SIIJLA":MAILTO:siijla@lajamaat.org
END:VEVENT
END:VCALENDAR