BEGIN:VCALENDAR
VERSION:2.0
PRODID:-//SIIJLA - ECPv6.8.3//NONSGML v1.0//EN
CALSCALE:GREGORIAN
METHOD:PUBLISH
X-WR-CALNAME:SIIJLA
X-ORIGINAL-URL:https://www.lajamaat.org
X-WR-CALDESC:Events for SIIJLA
REFRESH-INTERVAL;VALUE=DURATION:PT1H
X-Robots-Tag:noindex
X-PUBLISHED-TTL:PT1H
BEGIN:VTIMEZONE
TZID:America/Los_Angeles
BEGIN:DAYLIGHT
TZOFFSETFROM:-0800
TZOFFSETTO:-0700
TZNAME:PDT
DTSTART:20220313T100000
END:DAYLIGHT
BEGIN:STANDARD
TZOFFSETFROM:-0700
TZOFFSETTO:-0800
TZNAME:PST
DTSTART:20221106T090000
END:STANDARD
TZID:UTC
BEGIN:STANDARD
TZOFFSETFROM:+0000
TZOFFSETTO:+0000
TZNAME:UTC
DTSTART:20220101T000000
END:STANDARD
END:VTIMEZONE
BEGIN:VEVENT
DTSTART;TZID=America/Los_Angeles:20220801T200000
DTEND;TZID=America/Los_Angeles:20220801T220000
DTSTAMP:20260420T220015
CREATED:20220726T133707Z
LAST-MODIFIED:20220726T134639Z
UID:2947-1659384000-1659391200@www.lajamaat.org
SUMMARY:Muharram 1444 - 4th Night of Muharram
DESCRIPTION:Program Details:\nIn person and Online Program \nZOOM: \nMeeting ID: 514 926 4850\nPasscode: siijla786 \nyoutube.com/siijlamedia \n\n8:00pm – Salaat \n\n8:30pm – Qur’an Recitation \n\n8:40pm – Marshiya \n\n8:50pm – Majlis (Speech) \n\n9:35pm – Maatam \n\n9:55pm – Ziyarat & Adjourn
URL:https://www.lajamaat.org/event/shahadat-of-bibi-fatimah-az-zahra-sa-2-3/
LOCATION:SIIJLA\, 7925 Serapis Ave\, Pico Rivera\, CA\, 90660\, United States
CATEGORIES:Shahadat
ATTACH;FMTTYPE=image/jpeg:https://www.lajamaat.org/wp-content/uploads/2021/10/2000x1200_event_fatima-2.jpg
ORGANIZER;CN="SIIJLA":MAILTO:siijla@lajamaat.org
END:VEVENT
BEGIN:VEVENT
DTSTART;TZID=America/Los_Angeles:20220802T200000
DTEND;TZID=America/Los_Angeles:20220802T220000
DTSTAMP:20260420T220015
CREATED:20220726T133917Z
LAST-MODIFIED:20220726T134616Z
UID:2949-1659470400-1659477600@www.lajamaat.org
SUMMARY:Muharram 1444 - 5th Night of Muharram
DESCRIPTION:Program Details:\nIn person and Online Program \nZOOM: \nMeeting ID: 514 926 4850\nPasscode: siijla786 \nyoutube.com/siijlamedia \n\n8:00pm – Salaat \n\n8:30pm – Qur’an Recitation \n\n8:40pm – Marshiya \n\n8:50pm – Majlis (Speech) \n\n9:35pm – Maatam \n\n9:55pm – Ziyarat & Adjourn
URL:https://www.lajamaat.org/event/shahadat-of-bibi-fatimah-az-zahra-sa-2-3-2/
LOCATION:SIIJLA\, 7925 Serapis Ave\, Pico Rivera\, CA\, 90660\, United States
CATEGORIES:Shahadat
ATTACH;FMTTYPE=image/jpeg:https://www.lajamaat.org/wp-content/uploads/2021/10/2000x1200_event_fatima-2.jpg
ORGANIZER;CN="SIIJLA":MAILTO:siijla@lajamaat.org
END:VEVENT
BEGIN:VEVENT
DTSTART;TZID=America/Los_Angeles:20220803T200000
DTEND;TZID=America/Los_Angeles:20220803T220000
DTSTAMP:20260420T220015
CREATED:20220726T134112Z
LAST-MODIFIED:20220726T134553Z
UID:2951-1659556800-1659564000@www.lajamaat.org
SUMMARY:Muharram 1444 - 6th Night of Muharram
DESCRIPTION:Program Details:\nIn person and Online Program \nZOOM: \nMeeting ID: 514 926 4850\nPasscode: siijla786 \nyoutube.com/siijlamedia \n\n8:00pm – Salaat \n\n8:30pm – Qur’an Recitation \n\n8:40pm – Marshiya \n\n8:50pm – Majlis (Speech) \n\n9:35pm – Maatam \n\n9:55pm – Ziyarat & Adjourn
URL:https://www.lajamaat.org/event/shahadat-of-bibi-fatimah-az-zahra-sa-2-3-2-2/
LOCATION:SIIJLA\, 7925 Serapis Ave\, Pico Rivera\, CA\, 90660\, United States
CATEGORIES:Shahadat
ATTACH;FMTTYPE=image/jpeg:https://www.lajamaat.org/wp-content/uploads/2021/10/2000x1200_event_fatima-2.jpg
ORGANIZER;CN="SIIJLA":MAILTO:siijla@lajamaat.org
END:VEVENT
BEGIN:VEVENT
DTSTART;TZID=America/Los_Angeles:20220804T193000
DTEND;TZID=America/Los_Angeles:20220804T220000
DTSTAMP:20260420T220015
CREATED:20220726T134518Z
LAST-MODIFIED:20220726T134518Z
UID:2953-1659641400-1659650400@www.lajamaat.org
SUMMARY:Muharram 1444 - 7th Night of Muharram
DESCRIPTION:Program Details:\nIn person and Online Program \nZOOM: \nMeeting ID: 514 926 4850\nPasscode: siijla786 \nyoutube.com/siijlamedia \n\n7:30pm – Dinner \n\n8:00pm – Salaat \n\n8:30pm – Qur’an Recitation \n\n8:40pm – Marshiya \n\n8:50pm – Majlis (Speech) \n\n9:35pm – Maatam \n\n9:55pm – Ziyarat & Adjourn
URL:https://www.lajamaat.org/event/shahadat-of-bibi-fatimah-az-zahra-sa-2-2-3/
LOCATION:SIIJLA\, 7925 Serapis Ave\, Pico Rivera\, CA\, 90660\, United States
CATEGORIES:Shahadat
ATTACH;FMTTYPE=image/jpeg:https://www.lajamaat.org/wp-content/uploads/2021/10/2560x1682_Karbala-2.jpg
ORGANIZER;CN="SIIJLA":MAILTO:siijla@lajamaat.org
END:VEVENT
BEGIN:VEVENT
DTSTART;TZID=America/Los_Angeles:20220805T193000
DTEND;TZID=America/Los_Angeles:20220805T220000
DTSTAMP:20260420T220015
CREATED:20220726T135003Z
LAST-MODIFIED:20220726T135003Z
UID:2955-1659727800-1659736800@www.lajamaat.org
SUMMARY:Muharram 1444 - 8th Night of Muharram
DESCRIPTION:Program Details:\nIn person and Online Program \nZOOM: \nMeeting ID: 514 926 4850\nPasscode: siijla786 \nyoutube.com/siijlamedia \n\n7:30pm – Dinner \n\n8:00pm – Salaat \n\n8:30pm – Qur’an Recitation \n\n8:40pm – Marshiya \n\n8:50pm – Majlis (Speech) \n\n9:35pm – Maatam \n\n9:55pm – Ziyarat & Adjourn
URL:https://www.lajamaat.org/event/shahadat-of-bibi-fatimah-az-zahra-sa-2-2-3-2/
LOCATION:SIIJLA\, 7925 Serapis Ave\, Pico Rivera\, CA\, 90660\, United States
CATEGORIES:Shahadat
ATTACH;FMTTYPE=image/jpeg:https://www.lajamaat.org/wp-content/uploads/2021/10/2560x1682_Karbala-2.jpg
ORGANIZER;CN="SIIJLA":MAILTO:siijla@lajamaat.org
END:VEVENT
BEGIN:VEVENT
DTSTART;TZID=America/Los_Angeles:20220806T193000
DTEND;TZID=America/Los_Angeles:20220806T220000
DTSTAMP:20260420T220015
CREATED:20220726T135153Z
LAST-MODIFIED:20220726T135153Z
UID:2957-1659814200-1659823200@www.lajamaat.org
SUMMARY:Muharram 1444 - 9th Night of Muharram
DESCRIPTION:Program Details:\nIn person and Online Program \nZOOM: \nMeeting ID: 514 926 4850\nPasscode: siijla786 \nyoutube.com/siijlamedia \n\n7:30pm – Dinner \n\n8:00pm – Salaat \n\n8:30pm – Qur’an Recitation \n\n8:40pm – Marshiya \n\n8:50pm – Majlis (Speech) \n\n9:35pm – Maatam \n\n9:55pm – Ziyarat & Adjourn
URL:https://www.lajamaat.org/event/shahadat-of-bibi-fatimah-az-zahra-sa-2-2-3-2-2/
LOCATION:SIIJLA\, 7925 Serapis Ave\, Pico Rivera\, CA\, 90660\, United States
CATEGORIES:Shahadat
ATTACH;FMTTYPE=image/jpeg:https://www.lajamaat.org/wp-content/uploads/2021/10/2560x1682_Karbala-2.jpg
ORGANIZER;CN="SIIJLA":MAILTO:siijla@lajamaat.org
END:VEVENT
BEGIN:VEVENT
DTSTART;TZID=America/Los_Angeles:20220807T193000
DTEND;TZID=America/Los_Angeles:20220807T220000
DTSTAMP:20260420T220015
CREATED:20220726T135429Z
LAST-MODIFIED:20220726T135429Z
UID:2959-1659900600-1659909600@www.lajamaat.org
SUMMARY:Muharram 1444 - 10th Night of Muharram - Ashura Night
DESCRIPTION:Program Details:\nIn person and Online Program \nZOOM: \nMeeting ID: 514 926 4850\nPasscode: siijla786 \nyoutube.com/siijlamedia \n\n7:30pm – Dinner \n\n8:00pm – Salaat \n\n8:30pm – Qur’an Recitation \n\n8:40pm – Marshiya \n\n8:50pm – Majlis (Speech) \n\n9:35pm – Maatam \n\n9:55pm – Ziyarat & Adjourn
URL:https://www.lajamaat.org/event/shahadat-of-bibi-fatimah-az-zahra-sa-2-2-3-2-2-2/
LOCATION:SIIJLA\, 7925 Serapis Ave\, Pico Rivera\, CA\, 90660\, United States
CATEGORIES:Shahadat
ATTACH;FMTTYPE=image/jpeg:https://www.lajamaat.org/wp-content/uploads/2021/10/2560x1682_Karbala-2.jpg
ORGANIZER;CN="SIIJLA":MAILTO:siijla@lajamaat.org
END:VEVENT
BEGIN:VEVENT
DTSTART;TZID=UTC:20220808T094500
DTEND;TZID=UTC:20220808T203000
DTSTAMP:20260420T220015
CREATED:20220726T140212Z
LAST-MODIFIED:20220731T030752Z
UID:2961-1659951900-1659990600@www.lajamaat.org
SUMMARY:Muharram 1444 - Ashura Day\, Amaal\, & Sham-e-Gariba
DESCRIPTION:Program Details:\nIn person and Online Program \nZOOM: \nMeeting ID: 514 926 4850\nPasscode: siijla786 \nyoutube.com/siijlamedia \n\n9:45am – Ashura Aamal \n\n1:00pm – Dhuhr Salaat \n\n1:30pm – Marshiya \n\n2:00pm – Majlis (Speech) \n\n2:30pm – Maatam \n\n2:45pm – Ziyarat of Taziya \n\n3:00pm – Lunch \n\n6:30pm – Sham-e-Gariba program \n\n8:00pm – Maghribain Salaat
URL:https://www.lajamaat.org/event/shahadat-of-bibi-fatimah-az-zahra-sa-2-2-3-2-2-2-2/
LOCATION:SIIJLA\, 7925 Serapis Ave\, Pico Rivera\, CA\, 90660\, United States
CATEGORIES:Shahadat
ATTACH;FMTTYPE=image/jpeg:https://www.lajamaat.org/wp-content/uploads/2022/07/unnamed-1.jpg
ORGANIZER;CN="SIIJLA":MAILTO:siijla@lajamaat.org
END:VEVENT
BEGIN:VEVENT
DTSTART;TZID=America/Los_Angeles:20220809T193000
DTEND;TZID=America/Los_Angeles:20220809T220000
DTSTAMP:20260420T220015
CREATED:20220726T140637Z
LAST-MODIFIED:20220731T015800Z
UID:2964-1660073400-1660082400@www.lajamaat.org
SUMMARY:Muharram 1444 - 12th Night of Muharram - Ziyarat
DESCRIPTION:Program Details:\nIn person and Online Program \nZOOM: \nMeeting ID: 514 926 4850\nPasscode: siijla786 \nyoutube.com/siijlamedia \n\n7:30pm – Salaat \n\n8:00pm – Salaat \n\n8:30pm – Qur’an Recitation \n\n8:40pm – Marshiya \n\n8:50pm – Majlis (Speech) \n\n9:35pm – Maatam \n\n9:55pm – Ziyarat & Adjourn
URL:https://www.lajamaat.org/event/shahadat-of-bibi-fatimah-az-zahra-sa-2-3-2-2-2/
LOCATION:SIIJLA\, 7925 Serapis Ave\, Pico Rivera\, CA\, 90660\, United States
CATEGORIES:Shahadat
ATTACH;FMTTYPE=image/jpeg:https://www.lajamaat.org/wp-content/uploads/2021/10/2560x1682_Karbala-2.jpg
ORGANIZER;CN="SIIJLA":MAILTO:siijla@lajamaat.org
END:VEVENT
END:VCALENDAR