BEGIN:VCALENDAR
VERSION:2.0
PRODID:-//SIIJLA - ECPv6.8.3//NONSGML v1.0//EN
CALSCALE:GREGORIAN
METHOD:PUBLISH
X-ORIGINAL-URL:https://www.lajamaat.org
X-WR-CALDESC:Events for SIIJLA
REFRESH-INTERVAL;VALUE=DURATION:PT1H
X-Robots-Tag:noindex
X-PUBLISHED-TTL:PT1H
BEGIN:VTIMEZONE
TZID:America/Los_Angeles
BEGIN:DAYLIGHT
TZOFFSETFROM:-0800
TZOFFSETTO:-0700
TZNAME:PDT
DTSTART:20220313T100000
END:DAYLIGHT
BEGIN:STANDARD
TZOFFSETFROM:-0700
TZOFFSETTO:-0800
TZNAME:PST
DTSTART:20221106T090000
END:STANDARD
END:VTIMEZONE
BEGIN:VEVENT
DTSTART;TZID=America/Los_Angeles:20220903T180000
DTEND;TZID=America/Los_Angeles:20220903T210000
DTSTAMP:20260420T204232
CREATED:20220905T035006Z
LAST-MODIFIED:20220905T035006Z
UID:2973-1662228000-1662238800@www.lajamaat.org
SUMMARY:Safar 1444 - Shahadat of Imam Hassan al Mujtaba (AS)
DESCRIPTION:Program Details:\nIn person and Online Program \nZOOM: \nMeeting ID: 514 926 4850\nPasscode: siijla786 \nyoutube.com/siijlamedia \n\n6:00pm – Surah Yaseen \n\n6:15pm – Marsiya \n\n6:30pm – Majlis (Dr. Sayed Shabbir Kirmani) \n\n7:10pm – Matam \n\n7:20pm – Ziyarat & Announcements \n\n7:30pm – Salaat \n\n8:00pm – Dinner
URL:https://www.lajamaat.org/event/shahadat-of-bibi-fatimah-az-zahra-sa-2-3-2-2-2-2-2/
LOCATION:CA
CATEGORIES:Shahadat
ATTACH;FMTTYPE=image/jpeg:https://www.lajamaat.org/wp-content/uploads/2021/10/2560x1682_Karbala-2.jpg
END:VEVENT
BEGIN:VEVENT
DTSTART;TZID=America/Los_Angeles:20220910T174500
DTEND;TZID=America/Los_Angeles:20220910T210000
DTSTAMP:20260420T204232
CREATED:20220905T034756Z
LAST-MODIFIED:20220906T032137Z
UID:2971-1662831900-1662843600@www.lajamaat.org
SUMMARY:Safar 1444 - Shahadat of Bibi Sakina (AS) and 30th of Imam Hussain (AS)
DESCRIPTION:Program Details:\nIn person and Online Program \nZOOM: \nMeeting ID: 514 926 4850\nPasscode: siijla786 \nyoutube.com/siijlamedia \n\n5:45pm – Surah Yaseen \n\n6:00pm – Marsiya \n\n6:15pm – Majlis (Shaykh Dr. Mehdi Hazari) \n\n7:00pm – Matam \n\n7:15pm – Ziyarat & Announcements \n\n7:25pm – Salaat \n\n7:45pm – Dinner
URL:https://www.lajamaat.org/event/shahadat-of-bibi-fatimah-az-zahra-sa-2-3-2-2-2-2/
LOCATION:SIIJLA\, 7925 Serapis Ave\, Pico Rivera\, CA\, 90660\, United States
CATEGORIES:Shahadat
ATTACH;FMTTYPE=image/png:https://www.lajamaat.org/wp-content/uploads/2022/09/Wafat-of-Bibi-Sakina-AS-1.png
ORGANIZER;CN="SIIJLA":MAILTO:siijla@lajamaat.org
END:VEVENT
BEGIN:VEVENT
DTSTART;TZID=America/Los_Angeles:20220915T190000
DTEND;TZID=America/Los_Angeles:20220915T220000
DTSTAMP:20260420T204232
CREATED:20220905T035533Z
LAST-MODIFIED:20220905T041655Z
UID:2975-1663268400-1663279200@www.lajamaat.org
SUMMARY:Safar 1444 - Ashra Zainabia
DESCRIPTION:Program Details:\nIn person and Online Program \nZOOM: \nMeeting ID: 514 926 4850\nPasscode: siijla786 \nyoutube.com/siijlamedia \n\n7:10pm – Salaat \n\n7:30pm – Dinner \n\n8:00pm – Surah Yaseen \n\n8:10pm – Dua Kumail \n\n8:30pm – Marsiya \n\n8:40pm – Majlis (Shaykh Murtaza Bachoo) \n\n9:25pm – Matam \n\n9:35pm – Ziyarat Waritha \n\n9:45pm – Adjourn
URL:https://www.lajamaat.org/event/ashra-zainabia-2022/
LOCATION:SIIJLA\, 7925 Serapis Ave\, Pico Rivera\, CA\, 90660\, United States
CATEGORIES:Shahadat
ATTACH;FMTTYPE=image/png:https://www.lajamaat.org/wp-content/uploads/2022/09/Arbaeen-2022.png
ORGANIZER;CN="SIIJLA":MAILTO:siijla@lajamaat.org
END:VEVENT
BEGIN:VEVENT
DTSTART;TZID=America/Los_Angeles:20220916T190000
DTEND;TZID=America/Los_Angeles:20220916T220000
DTSTAMP:20260420T204232
CREATED:20220905T035808Z
LAST-MODIFIED:20220905T041742Z
UID:2977-1663354800-1663365600@www.lajamaat.org
SUMMARY:Safar 1444 - Ashra Zainabia Day 2
DESCRIPTION:Program Details:\nIn person and Online Program \nZOOM: \nMeeting ID: 514 926 4850\nPasscode: siijla786 \nyoutube.com/siijlamedia \n\n7:10pm – Salaat \n\n7:30pm – Dinner \n\n8:00pm – Surah Yaseen \n\n8:10pm – Marsiya \n\n8:20pm – Majlis (Shaykh Murtaza Bachoo) \n\n9:05pm – Matam \n\n9:15pm – Ziyarat \n\n9:20pm – Adjourn
URL:https://www.lajamaat.org/event/ashra-zainabia-2022-2/
LOCATION:SIIJLA\, 7925 Serapis Ave\, Pico Rivera\, CA\, 90660\, United States
CATEGORIES:Shahadat
ATTACH;FMTTYPE=image/png:https://www.lajamaat.org/wp-content/uploads/2022/09/Arbaeen-2022.png
ORGANIZER;CN="SIIJLA":MAILTO:siijla@lajamaat.org
END:VEVENT
BEGIN:VEVENT
DTSTART;TZID=America/Los_Angeles:20220917T123000
DTEND;TZID=America/Los_Angeles:20220917T150000
DTSTAMP:20260420T204232
CREATED:20220905T040313Z
LAST-MODIFIED:20220905T041539Z
UID:2979-1663417800-1663426800@www.lajamaat.org
SUMMARY:Safar 1444 - Day of Arbaeen
DESCRIPTION:Program Details:\nIn person and Online Program \nZOOM: \nMeeting ID: 514 926 4850\nPasscode: siijla786 \nyoutube.com/siijlamedia \n\n12:30pm – Ziyarat of Arbaeen \n\n12:50pm – Zohrain prayer \n\n1:15pm – Marsiya \n\n1:30pm – Majlis (Shaykh Murtaza Bachoo) \n\n2:10pm – Matam \n\n2:25pm – Ziyarat and Adjourn \n\n2:30pm – Lunch
URL:https://www.lajamaat.org/event/day-of-arbaeen/
LOCATION:SIIJLA\, 7925 Serapis Ave\, Pico Rivera\, CA\, 90660\, United States
CATEGORIES:Shahadat
ATTACH;FMTTYPE=image/png:https://www.lajamaat.org/wp-content/uploads/2022/09/Arbaeen-2022.png
ORGANIZER;CN="SIIJLA":MAILTO:siijla@lajamaat.org
END:VEVENT
BEGIN:VEVENT
DTSTART;TZID=America/Los_Angeles:20220924T173000
DTEND;TZID=America/Los_Angeles:20220924T213000
DTSTAMP:20260420T204232
CREATED:20221001T184955Z
LAST-MODIFIED:20221001T184955Z
UID:2992-1664040600-1664055000@www.lajamaat.org
SUMMARY:Safar 1444 - Wafat of Prophet Muhammad (SAW) and Shahadat of 8th Imam (AS)
DESCRIPTION:Program Details:\nIn person and Online Program \nYOUTUBE: \nyoutube.com/siijlamedia
URL:https://www.lajamaat.org/event/ashra-zainabia-2022-2-2/
LOCATION:SIIJLA\, 7925 Serapis Ave\, Pico Rivera\, CA\, 90660\, United States
CATEGORIES:Shahadat
ORGANIZER;CN="SIIJLA":MAILTO:siijla@lajamaat.org
END:VEVENT
END:VCALENDAR