BEGIN:VCALENDAR
VERSION:2.0
PRODID:-//SIIJLA - ECPv6.8.3//NONSGML v1.0//EN
CALSCALE:GREGORIAN
METHOD:PUBLISH
X-ORIGINAL-URL:https://www.lajamaat.org
X-WR-CALDESC:Events for SIIJLA
REFRESH-INTERVAL;VALUE=DURATION:PT1H
X-Robots-Tag:noindex
X-PUBLISHED-TTL:PT1H
BEGIN:VTIMEZONE
TZID:America/Los_Angeles
BEGIN:DAYLIGHT
TZOFFSETFROM:-0800
TZOFFSETTO:-0700
TZNAME:PDT
DTSTART:20240310T100000
END:DAYLIGHT
BEGIN:STANDARD
TZOFFSETFROM:-0700
TZOFFSETTO:-0800
TZNAME:PST
DTSTART:20241103T090000
END:STANDARD
END:VTIMEZONE
BEGIN:VEVENT
DTSTART;TZID=America/Los_Angeles:20240706T193000
DTEND;TZID=America/Los_Angeles:20240706T220000
DTSTAMP:20260419T140504
CREATED:20240701T172938Z
LAST-MODIFIED:20240701T172938Z
UID:3167-1720294200-1720303200@www.lajamaat.org
SUMMARY:Muharram 1446 - 1st Night of Muharram
DESCRIPTION:Program Details:\nIn person and Online Program \nOnline – Streaming Live: \nyoutube.com/siijlamedia
URL:https://www.lajamaat.org/event/muharram-1446-1st-night-of-muharram/
LOCATION:SIIJLA\, 7925 Serapis Ave\, Pico Rivera\, CA\, 90660\, United States
CATEGORIES:Shahadat
ATTACH;FMTTYPE=image/jpeg:https://www.lajamaat.org/wp-content/uploads/2021/10/2000x1200_event_fatima-2.jpg
ORGANIZER;CN="SIIJLA":MAILTO:siijla@lajamaat.org
END:VEVENT
BEGIN:VEVENT
DTSTART;TZID=America/Los_Angeles:20240707T193000
DTEND;TZID=America/Los_Angeles:20240707T220000
DTSTAMP:20260419T140504
CREATED:20240701T175329Z
LAST-MODIFIED:20240701T175329Z
UID:3169-1720380600-1720389600@www.lajamaat.org
SUMMARY:Muharram 1446 - 2nd Night of Muharram
DESCRIPTION:Program Details:\nIn person and Online Program \nOnline: \nyoutube.com/siijlamedia \n\n7:30pm – Dinner \n\n8:25pm – Salaat \n\n8:45pm – Qur’an Recitation \n\n8:55pm – Marsiya \n\n9:05pm – Majlis (Speech) \n\n9:55pm – Maatam \n\n10:00pm – Ziyarat & Adjourn
URL:https://www.lajamaat.org/event/muharram-1446-2nd-night-of-muharram/
LOCATION:SIIJLA\, 7925 Serapis Ave\, Pico Rivera\, CA\, 90660\, United States
CATEGORIES:Shahadat
ATTACH;FMTTYPE=image/jpeg:https://www.lajamaat.org/wp-content/uploads/2021/10/2560x1682_Karbala-2.jpg
ORGANIZER;CN="SIIJLA":MAILTO:siijla@lajamaat.org
END:VEVENT
BEGIN:VEVENT
DTSTART;TZID=America/Los_Angeles:20240708T193000
DTEND;TZID=America/Los_Angeles:20240708T220000
DTSTAMP:20260419T140504
CREATED:20240701T175542Z
LAST-MODIFIED:20240701T175542Z
UID:3171-1720467000-1720476000@www.lajamaat.org
SUMMARY:Muharram 1446 - 3rd Night of Muharram
DESCRIPTION:Program Details:\nIn person and Online Program \nOnline: \nyoutube.com/siijlamedia \n\n7:30pm – Dinner \n\n8:24pm – Salaat \n\n8:45pm – Qur’an Recitation \n\n8:55pm – Dua Kumayl \n\n9:25pm – Marsiya \n\n9:35pm – Majlis (Speech) \n\n10:20pm – Maatam \n\n10:30pm – Ziyarat & Adjourn
URL:https://www.lajamaat.org/event/muharram-1446-3rd-night-of-muharram/
LOCATION:SIIJLA\, 7925 Serapis Ave\, Pico Rivera\, CA\, 90660\, United States
CATEGORIES:Shahadat
ATTACH;FMTTYPE=image/jpeg:https://www.lajamaat.org/wp-content/uploads/2021/10/2560x1682_Karbala-2.jpg
ORGANIZER;CN="SIIJLA":MAILTO:siijla@lajamaat.org
END:VEVENT
BEGIN:VEVENT
DTSTART;TZID=America/Los_Angeles:20240709T193000
DTEND;TZID=America/Los_Angeles:20240709T223000
DTSTAMP:20260419T140504
CREATED:20240701T180205Z
LAST-MODIFIED:20240701T180205Z
UID:3174-1720553400-1720564200@www.lajamaat.org
SUMMARY:Muharram 1446 - 4th Night of Muharram
DESCRIPTION:Program Details:\nIn person and Online Program \nOnline: \nyoutube.com/siijlamedia \n\n7:30pm – Dinner \n\n8:20pm – Salaat \n\n8:45pm – Qur’an Recitation \n\n8:55pm – Marsiya \n\n9:05pm – Majlis (Speech) \n\n9:55pm – Maatam \n\n10:00pm – Ziyarat & Adjourn
URL:https://www.lajamaat.org/event/muharram-1446-4th-night-of-muharram/
LOCATION:SIIJLA\, 7925 Serapis Ave\, Pico Rivera\, CA\, 90660\, United States
CATEGORIES:Shahadat
ATTACH;FMTTYPE=image/jpeg:https://www.lajamaat.org/wp-content/uploads/2021/10/2000x1200_event_fatima-2.jpg
ORGANIZER;CN="SIIJLA":MAILTO:siijla@lajamaat.org
END:VEVENT
BEGIN:VEVENT
DTSTART;TZID=America/Los_Angeles:20240710T193000
DTEND;TZID=America/Los_Angeles:20240710T223000
DTSTAMP:20260419T140504
CREATED:20240701T180900Z
LAST-MODIFIED:20240701T180900Z
UID:3173-1720639800-1720650600@www.lajamaat.org
SUMMARY:Muharram 1446 - 5th Night of Muharram
DESCRIPTION:Program Details:\nIn person and Online Program \nOnline – Streaming Live: \nyoutube.com/siijlamedia
URL:https://www.lajamaat.org/event/muharram-1446-5th-night-of-muharram/
LOCATION:SIIJLA\, 7925 Serapis Ave\, Pico Rivera\, CA\, 90660\, United States
CATEGORIES:Shahadat
ATTACH;FMTTYPE=image/jpeg:https://www.lajamaat.org/wp-content/uploads/2022/04/quran-1.jpeg
ORGANIZER;CN="SIIJLA":MAILTO:siijla@lajamaat.org
END:VEVENT
BEGIN:VEVENT
DTSTART;TZID=America/Los_Angeles:20240711T193000
DTEND;TZID=America/Los_Angeles:20240711T223000
DTSTAMP:20260419T140504
CREATED:20240701T181201Z
LAST-MODIFIED:20240701T181201Z
UID:3183-1720726200-1720737000@www.lajamaat.org
SUMMARY:Muharram 1446 - 6th Night of Muharram
DESCRIPTION:Program Details:\nIn person and Online Program \nOnline – Streaming Live: \nyoutube.com/siijlamedia
URL:https://www.lajamaat.org/event/muharram-1446-6th-night-of-muharram/
LOCATION:SIIJLA\, 7925 Serapis Ave\, Pico Rivera\, CA\, 90660\, United States
CATEGORIES:Shahadat
ATTACH;FMTTYPE=image/jpeg:https://www.lajamaat.org/wp-content/uploads/2021/10/2000x1200_event_fatima-2.jpg
ORGANIZER;CN="SIIJLA":MAILTO:siijla@lajamaat.org
END:VEVENT
BEGIN:VEVENT
DTSTART;TZID=America/Los_Angeles:20240712T193000
DTEND;TZID=America/Los_Angeles:20240712T223000
DTSTAMP:20260419T140504
CREATED:20240701T181659Z
LAST-MODIFIED:20240701T181659Z
UID:3181-1720812600-1720823400@www.lajamaat.org
SUMMARY:Muharram 1446 - 7th Night of Muharram
DESCRIPTION:Program Details:\nIn person and Online Program \nOnline – Streaming Live: \nyoutube.com/siijlamedia
URL:https://www.lajamaat.org/event/muharram-1446-7th-night-of-muharram/
LOCATION:SIIJLA\, 7925 Serapis Ave\, Pico Rivera\, CA\, 90660\, United States
CATEGORIES:Shahadat
ATTACH;FMTTYPE=image/jpeg:https://www.lajamaat.org/wp-content/uploads/2016/03/Imam-Hasan-Askari-4.jpg
ORGANIZER;CN="SIIJLA":MAILTO:siijla@lajamaat.org
END:VEVENT
BEGIN:VEVENT
DTSTART;TZID=America/Los_Angeles:20240713T193000
DTEND;TZID=America/Los_Angeles:20240713T223000
DTSTAMP:20260419T140504
CREATED:20240701T181809Z
LAST-MODIFIED:20240701T181809Z
UID:3180-1720899000-1720909800@www.lajamaat.org
SUMMARY:Muharram 1446 - 8th Night of Muharram
DESCRIPTION:Program Details:\nIn person and Online Program \nOnline – Streaming Live: \nyoutube.com/siijlamedia
URL:https://www.lajamaat.org/event/muharram-1446-8th-night-of-muharram/
LOCATION:SIIJLA\, 7925 Serapis Ave\, Pico Rivera\, CA\, 90660\, United States
CATEGORIES:Shahadat
ATTACH;FMTTYPE=image/jpeg:https://www.lajamaat.org/wp-content/uploads/2021/10/2000x1200_donations-2.jpg
ORGANIZER;CN="SIIJLA":MAILTO:siijla@lajamaat.org
END:VEVENT
BEGIN:VEVENT
DTSTART;TZID=America/Los_Angeles:20240714T193000
DTEND;TZID=America/Los_Angeles:20240714T223000
DTSTAMP:20260419T140504
CREATED:20240701T183039Z
LAST-MODIFIED:20240701T183039Z
UID:3179-1720985400-1720996200@www.lajamaat.org
SUMMARY:Muharram 1446 - 9th Night of Muharram
DESCRIPTION:Program Details:\nIn person and Online Program \nOnline – Streaming Live: \nyoutube.com/siijlamedia
URL:https://www.lajamaat.org/event/muharram-1446-9th-night-of-muharram/
LOCATION:SIIJLA\, 7925 Serapis Ave\, Pico Rivera\, CA\, 90660\, United States
CATEGORIES:Shahadat
ATTACH;FMTTYPE=image/jpeg:https://www.lajamaat.org/wp-content/uploads/2022/04/quran-1.jpeg
ORGANIZER;CN="SIIJLA":MAILTO:siijla@lajamaat.org
END:VEVENT
BEGIN:VEVENT
DTSTART;TZID=America/Los_Angeles:20240715T193000
DTEND;TZID=America/Los_Angeles:20240715T230000
DTSTAMP:20260419T140504
CREATED:20240701T191552Z
LAST-MODIFIED:20240701T191552Z
UID:3178-1721071800-1721084400@www.lajamaat.org
SUMMARY:Muharram 1445 - 10th Night of Muharram
DESCRIPTION:Program Details:\nIn person and Online Program \nOnline: \nyoutube.com/siijlamedia
URL:https://www.lajamaat.org/event/muharram-1445-10th-night-of-muharram-2/
LOCATION:SIIJLA\, 7925 Serapis Ave\, Pico Rivera\, CA\, 90660\, United States
CATEGORIES:Shahadat
ATTACH;FMTTYPE=image/jpeg:https://www.lajamaat.org/wp-content/uploads/2021/10/2560x1682_Karbala-2.jpg
ORGANIZER;CN="SIIJLA":MAILTO:siijla@lajamaat.org
END:VEVENT
BEGIN:VEVENT
DTSTART;VALUE=DATE:20240716
DTEND;VALUE=DATE:20240717
DTSTAMP:20260419T140504
CREATED:20240701T191727Z
LAST-MODIFIED:20240701T191727Z
UID:3177-1721088000-1721174399@www.lajamaat.org
SUMMARY:Muharram 1446 - Ashura Day\, Amaal\, & Sham-e-Ghariban
DESCRIPTION:Program Details:\nIn person and Online Program \nyoutube.com/siijlamedia
URL:https://www.lajamaat.org/event/muharram-1446-ashura-day-amaal-sham-e-ghariban/
LOCATION:SIIJLA\, 7925 Serapis Ave\, Pico Rivera\, CA\, 90660\, United States
CATEGORIES:Shahadat
ATTACH;FMTTYPE=image/jpeg:https://www.lajamaat.org/wp-content/uploads/2022/07/unnamed-1.jpg
ORGANIZER;CN="SIIJLA":MAILTO:siijla@lajamaat.org
END:VEVENT
BEGIN:VEVENT
DTSTART;TZID=America/Los_Angeles:20240717T193000
DTEND;TZID=America/Los_Angeles:20240717T220000
DTSTAMP:20260419T140504
CREATED:20240701T191907Z
LAST-MODIFIED:20240701T191907Z
UID:3176-1721244600-1721253600@www.lajamaat.org
SUMMARY:Muharram 1446 - 12th Night of Muharram - Ziyarat
DESCRIPTION:Program Details:\nIn person and Online Program \nyoutube.com/siijlamedia
URL:https://www.lajamaat.org/event/muharram-1446-12th-night-of-muharram-ziyarat/
LOCATION:SIIJLA\, 7925 Serapis Ave\, Pico Rivera\, CA\, 90660\, United States
CATEGORIES:Shahadat
ATTACH;FMTTYPE=image/jpeg:https://www.lajamaat.org/wp-content/uploads/2021/10/2560x1682_Karbala-2.jpg
ORGANIZER;CN="SIIJLA":MAILTO:siijla@lajamaat.org
END:VEVENT
END:VCALENDAR