BEGIN:VCALENDAR
VERSION:2.0
PRODID:-//SIIJLA - ECPv6.8.3//NONSGML v1.0//EN
CALSCALE:GREGORIAN
METHOD:PUBLISH
X-ORIGINAL-URL:https://www.lajamaat.org
X-WR-CALDESC:Events for SIIJLA
REFRESH-INTERVAL;VALUE=DURATION:PT1H
X-Robots-Tag:noindex
X-PUBLISHED-TTL:PT1H
BEGIN:VTIMEZONE
TZID:America/Los_Angeles
BEGIN:DAYLIGHT
TZOFFSETFROM:-0800
TZOFFSETTO:-0700
TZNAME:PDT
DTSTART:20250309T100000
END:DAYLIGHT
BEGIN:STANDARD
TZOFFSETFROM:-0700
TZOFFSETTO:-0800
TZNAME:PST
DTSTART:20251102T090000
END:STANDARD
END:VTIMEZONE
BEGIN:VEVENT
DTSTART;TZID=America/Los_Angeles:20250812T191500
DTEND;TZID=America/Los_Angeles:20250812T220000
DTSTAMP:20260419T070632
CREATED:20250810T025025Z
LAST-MODIFIED:20250810T025025Z
UID:3248-1755026100-1755036000@www.lajamaat.org
SUMMARY:Arbaeen 1447 - Night 1
DESCRIPTION:Program Details:\n7:15 pm Dinner\n8:00 pm Maghribain Prayer\n8:30 pm Surah Yaseen\n8:40 pm Marsiya\n8:50 pm Majlis – Shaikh Mahdi Elahi\n9:40 pm Matam\n9:50 pm Announcements\, Ziyarat\, and Adjourn \nOnline: \nyoutube.com/siijlamedia
URL:https://www.lajamaat.org/event/muharram-1447-10th-night-of-muharram-2/
LOCATION:CA
CATEGORIES:Shahadat
ATTACH;FMTTYPE=image/jpeg:https://www.lajamaat.org/wp-content/uploads/2021/10/2560x1682_Karbala-2.jpg
END:VEVENT
BEGIN:VEVENT
DTSTART;TZID=America/Los_Angeles:20250813T191500
DTEND;TZID=America/Los_Angeles:20250813T220000
DTSTAMP:20260419T070632
CREATED:20250810T025345Z
LAST-MODIFIED:20250810T025345Z
UID:3250-1755112500-1755122400@www.lajamaat.org
SUMMARY:Arbaeen 1447 - Night 2
DESCRIPTION:Program Details:\n7:15 pm Dinner\n8:00 pm Maghribain Prayer\n8:30 pm Surah Yaseen\n8:40 pm Marsiya\n8:50 pm Majlis – Shaikh Mahdi Elahi\n9:40 pm Matam\n9:50 pm Announcements\, Ziyarat\, and Adjourn \nOnline: \nyoutube.com/siijlamedia
URL:https://www.lajamaat.org/event/arbaeen-1447-night-2/
LOCATION:SIIJLA\, 7925 Serapis Ave\, Pico Rivera\, CA\, 90660\, United States
CATEGORIES:Shahadat
ATTACH;FMTTYPE=image/jpeg:https://www.lajamaat.org/wp-content/uploads/2021/10/2560x1682_Karbala-2.jpg
ORGANIZER;CN="SIIJLA":MAILTO:siijla@lajamaat.org
END:VEVENT
BEGIN:VEVENT
DTSTART;TZID=America/Los_Angeles:20250814T183000
DTEND;TZID=America/Los_Angeles:20250814T220000
DTSTAMP:20260419T070632
CREATED:20250810T025934Z
LAST-MODIFIED:20250810T025934Z
UID:3252-1755196200-1755208800@www.lajamaat.org
SUMMARY:Arbaeen Day 1447
DESCRIPTION:Program Details:\n6:30 pm Surah Yaseen\n6:40 pm Majlis – Shaikh Mahdi Elahi\n7:30 pm Matam\n7:40 pm Ziyarat of Arbaeen\n8:00 pm Maghribain Prayer\n8:30 pm Dinner \nOnline: \nyoutube.com/siijlamedia
URL:https://www.lajamaat.org/event/arbaeen-day-1447/
LOCATION:SIIJLA\, 7925 Serapis Ave\, Pico Rivera\, CA\, 90660\, United States
CATEGORIES:Shahadat
ATTACH;FMTTYPE=image/jpeg:https://www.lajamaat.org/wp-content/uploads/2021/10/2560x1682_Karbala-2.jpg
ORGANIZER;CN="SIIJLA":MAILTO:siijla@lajamaat.org
END:VEVENT
END:VCALENDAR