BEGIN:VCALENDAR
VERSION:2.0
PRODID:-//SIIJLA - ECPv6.8.3//NONSGML v1.0//EN
CALSCALE:GREGORIAN
METHOD:PUBLISH
X-ORIGINAL-URL:https://www.lajamaat.org
X-WR-CALDESC:Events for SIIJLA
REFRESH-INTERVAL;VALUE=DURATION:PT1H
X-Robots-Tag:noindex
X-PUBLISHED-TTL:PT1H
BEGIN:VTIMEZONE
TZID:UTC
BEGIN:STANDARD
TZOFFSETFROM:+0000
TZOFFSETTO:+0000
TZNAME:UTC
DTSTART:20220101T000000
END:STANDARD
END:VTIMEZONE
BEGIN:VEVENT
DTSTART;TZID=UTC:20220808T094500
DTEND;TZID=UTC:20220808T203000
DTSTAMP:20260420T233810
CREATED:20220726T140212Z
LAST-MODIFIED:20220731T030752Z
UID:2961-1659951900-1659990600@www.lajamaat.org
SUMMARY:Muharram 1444 - Ashura Day\, Amaal\, & Sham-e-Gariba
DESCRIPTION:Program Details:\nIn person and Online Program \nZOOM: \nMeeting ID: 514 926 4850\nPasscode: siijla786 \nyoutube.com/siijlamedia \n\n9:45am – Ashura Aamal \n\n1:00pm – Dhuhr Salaat \n\n1:30pm – Marshiya \n\n2:00pm – Majlis (Speech) \n\n2:30pm – Maatam \n\n2:45pm – Ziyarat of Taziya \n\n3:00pm – Lunch \n\n6:30pm – Sham-e-Gariba program \n\n8:00pm – Maghribain Salaat
URL:https://www.lajamaat.org/event/shahadat-of-bibi-fatimah-az-zahra-sa-2-2-3-2-2-2-2/
LOCATION:SIIJLA\, 7925 Serapis Ave\, Pico Rivera\, CA\, 90660\, United States
CATEGORIES:Shahadat
ATTACH;FMTTYPE=image/jpeg:https://www.lajamaat.org/wp-content/uploads/2022/07/unnamed-1.jpg
ORGANIZER;CN="SIIJLA":MAILTO:siijla@lajamaat.org
END:VEVENT
END:VCALENDAR