BEGIN:VCALENDAR
VERSION:2.0
PRODID:-//SIIJLA - ECPv6.8.3//NONSGML v1.0//EN
CALSCALE:GREGORIAN
METHOD:PUBLISH
X-ORIGINAL-URL:https://www.lajamaat.org
X-WR-CALDESC:Events for SIIJLA
REFRESH-INTERVAL;VALUE=DURATION:PT1H
X-Robots-Tag:noindex
X-PUBLISHED-TTL:PT1H
BEGIN:VTIMEZONE
TZID:America/Los_Angeles
BEGIN:DAYLIGHT
TZOFFSETFROM:-0800
TZOFFSETTO:-0700
TZNAME:PDT
DTSTART:20230312T100000
END:DAYLIGHT
BEGIN:STANDARD
TZOFFSETFROM:-0700
TZOFFSETTO:-0800
TZNAME:PST
DTSTART:20231105T090000
END:STANDARD
END:VTIMEZONE
BEGIN:VEVENT
DTSTART;TZID=America/Los_Angeles:20230721T193000
DTEND;TZID=America/Los_Angeles:20230721T220000
DTSTAMP:20260420T082836
CREATED:20230720T024817Z
LAST-MODIFIED:20230720T024817Z
UID:3094-1689967800-1689976800@www.lajamaat.org
SUMMARY:Muharram 1445 - 4th Night of Muharram
DESCRIPTION:Program Details:\nIn person and Online Program \nOnline: \nyoutube.com/siijlamedia \n\n7:30pm – Dinner \n\n8:20pm – Salaat \n\n8:45pm – Qur’an Recitation \n\n8:55pm – Marsiya \n\n9:05pm – Majlis (Speech) \n\n9:55pm – Maatam \n\n10:00pm – Ziyarat & Adjourn
URL:https://www.lajamaat.org/event/muharram-1445-4th-night-of-muharram/
LOCATION:SIIJLA\, 7925 Serapis Ave\, Pico Rivera\, CA\, 90660\, United States
CATEGORIES:Shahadat
ATTACH;FMTTYPE=image/jpeg:https://www.lajamaat.org/wp-content/uploads/2021/10/2000x1200_event_fatima-2.jpg
ORGANIZER;CN="SIIJLA":MAILTO:siijla@lajamaat.org
END:VEVENT
END:VCALENDAR