BEGIN:VCALENDAR
VERSION:2.0
PRODID:-//SIIJLA - ECPv6.8.3//NONSGML v1.0//EN
CALSCALE:GREGORIAN
METHOD:PUBLISH
X-WR-CALNAME:SIIJLA
X-ORIGINAL-URL:https://www.lajamaat.org
X-WR-CALDESC:Events for SIIJLA
REFRESH-INTERVAL;VALUE=DURATION:PT1H
X-Robots-Tag:noindex
X-PUBLISHED-TTL:PT1H
BEGIN:VTIMEZONE
TZID:UTC
BEGIN:STANDARD
TZOFFSETFROM:+0000
TZOFFSETTO:+0000
TZNAME:UTC
DTSTART:20220101T000000
END:STANDARD
END:VTIMEZONE
BEGIN:VEVENT
DTSTART;TZID=UTC:20220411T203000
DTEND;TZID=UTC:20220411T220000
DTSTAMP:20260422T033501
CREATED:20220411T051046Z
LAST-MODIFIED:20220411T052242Z
UID:2900-1649709000-1649714400@www.lajamaat.org
SUMMARY:10th Night of Ramadhan - Wafat of Bibi Khadija AS (Online Only)
DESCRIPTION:Program Details:\nOnline Program Only \n\n8:30pm – 9:00pm: Dua Iftetah \n\n9:00PM – 9:10PM – Marshia \n\n9:10pm – 9:55pm: Majlis – Shaikh Ahmad Moderras (Live via Zoom/YouTube) \n\n9:55pm – 10:00pm – Matam \n\n10:00pm – 10:05pm – Announcements\, Ziyarat\, Du’a faraj
URL:https://www.lajamaat.org/event/wiladat-of-bibi-fatimah-az-zahra-sa-2/
LOCATION:CA
CATEGORIES:Wafat
ATTACH;FMTTYPE=image/jpeg:https://www.lajamaat.org/wp-content/uploads/2021/10/2000x1200_event_fatimaZahra-2.jpg
END:VEVENT
END:VCALENDAR