BEGIN:VCALENDAR
VERSION:2.0
PRODID:-//SIIJLA - ECPv6.8.3//NONSGML v1.0//EN
CALSCALE:GREGORIAN
METHOD:PUBLISH
X-WR-CALNAME:SIIJLA
X-ORIGINAL-URL:https://www.lajamaat.org
X-WR-CALDESC:Events for SIIJLA
REFRESH-INTERVAL;VALUE=DURATION:PT1H
X-Robots-Tag:noindex
X-PUBLISHED-TTL:PT1H
BEGIN:VTIMEZONE
TZID:UTC
BEGIN:STANDARD
TZOFFSETFROM:+0000
TZOFFSETTO:+0000
TZNAME:UTC
DTSTART:20220101T000000
END:STANDARD
END:VTIMEZONE
BEGIN:VEVENT
DTSTART;TZID=UTC:20220416T173000
DTEND;TZID=UTC:20220416T213000
DTSTAMP:20260422T033358
CREATED:20220410T083012Z
LAST-MODIFIED:20220411T052156Z
UID:2897-1650130200-1650144600@www.lajamaat.org
SUMMARY:15th Night of Ramadhan - Wiladat of Imam Hasan AS
DESCRIPTION:Program Details:\nIn Person Program & Online \n\n5:30pm – 6:00pm – Quran Recitation (Darsah) / Kids’ Quran class \n\n6:00pm – 6:30pm – Dua Iftetah \n\n6:30pm – 7:15pm – Majlis / Kids’ Ramadhan Workshop – Shaikh Ahmad Moderras (live speaker) \n\n7:15pm – 7:20pm Announcements\, Ziyarat\, Dua Faraj \n\n7:40pm – Namaaz e Maghribain \n\n8:05pm – Iftar Dinner \n8:45pm – Ziyarat\nPost Iftar Activity: Ice Cream Social
URL:https://www.lajamaat.org/event/15th-night-of-ramadhan-wiladat-of-imam-hasan-as/
LOCATION:SIIJLA\, 7925 Serapis Ave\, Pico Rivera\, CA\, 90660\, United States
CATEGORIES:Jashan
ATTACH;FMTTYPE=image/jpeg:https://www.lajamaat.org/wp-content/uploads/2021/10/2000x1200_event_milad-2.jpg
ORGANIZER;CN="SIIJLA":MAILTO:siijla@lajamaat.org
END:VEVENT
END:VCALENDAR