BEGIN:VCALENDAR
VERSION:2.0
PRODID:-//SIIJLA - ECPv6.8.3//NONSGML v1.0//EN
CALSCALE:GREGORIAN
METHOD:PUBLISH
X-WR-CALNAME:SIIJLA
X-ORIGINAL-URL:https://www.lajamaat.org
X-WR-CALDESC:Events for SIIJLA
REFRESH-INTERVAL;VALUE=DURATION:PT1H
X-Robots-Tag:noindex
X-PUBLISHED-TTL:PT1H
BEGIN:VTIMEZONE
TZID:America/Los_Angeles
BEGIN:DAYLIGHT
TZOFFSETFROM:-0800
TZOFFSETTO:-0700
TZNAME:PDT
DTSTART:20220313T100000
END:DAYLIGHT
BEGIN:STANDARD
TZOFFSETFROM:-0700
TZOFFSETTO:-0800
TZNAME:PST
DTSTART:20221106T090000
END:STANDARD
END:VTIMEZONE
BEGIN:VEVENT
DTSTART;TZID=America/Los_Angeles:20220420T191500
DTEND;TZID=America/Los_Angeles:20220420T223000
DTSTAMP:20260422T033359
CREATED:20220418T043240Z
LAST-MODIFIED:20220418T043240Z
UID:2909-1650482100-1650493800@www.lajamaat.org
SUMMARY:19th Night of Ramadhan - Shab-e-Zarbat
DESCRIPTION:Program Details:\nIn Person Program & Online \n\n7:15pm – 7:45pm – Dua Iftetah \n\n7:45pm – 8:15pm – Namaaz e Maghribain \n\n8:15pm – 9:00pm – Iftar Dinner \n\n9:00pm – 9:05pm – Marshiya \n\n9:05pm – 9:30pm – Majlis – Shab-e-Zarbat – Al Hajj Hussein Walji (live speaker) \n\n9:30pm – 9:35pm Matam \n\n9:40pm – 10:30pm – Amaal of 19th Eve\, Munajat of Imam Ali (AS)\, Ziyarat of Shab e Qadr
URL:https://www.lajamaat.org/event/19th-night-of-ramadhan/
LOCATION:SIIJLA\, 7925 Serapis Ave\, Pico Rivera\, CA\, 90660\, United States
CATEGORIES:Wafat
ATTACH;FMTTYPE=image/jpeg:https://www.lajamaat.org/wp-content/uploads/2021/10/2000x1200_event_milad-2.jpg
ORGANIZER;CN="SIIJLA":MAILTO:siijla@lajamaat.org
END:VEVENT
END:VCALENDAR