BEGIN:VCALENDAR
VERSION:2.0
PRODID:-//SIIJLA - ECPv6.8.3//NONSGML v1.0//EN
CALSCALE:GREGORIAN
METHOD:PUBLISH
X-ORIGINAL-URL:https://www.lajamaat.org
X-WR-CALDESC:Events for SIIJLA
REFRESH-INTERVAL;VALUE=DURATION:PT1H
X-Robots-Tag:noindex
X-PUBLISHED-TTL:PT1H
BEGIN:VTIMEZONE
TZID:UTC
BEGIN:STANDARD
TZOFFSETFROM:+0000
TZOFFSETTO:+0000
TZNAME:UTC
DTSTART:20220101T000000
END:STANDARD
END:VTIMEZONE
BEGIN:VEVENT
DTSTART;TZID=UTC:20220422T191500
DTEND;TZID=UTC:20220422T223000
DTSTAMP:20260422T033703
CREATED:20220418T044241Z
LAST-MODIFIED:20220418T050502Z
UID:2913-1650654900-1650666600@www.lajamaat.org
SUMMARY:21st Night of Ramadhan - Shahadat Imam Ali (AS)
DESCRIPTION:Program Details:\nIn Person Program & Online \n\n7:15pm – 7:45pm – Dua Iftetah \n\n7:45pm – 8:15pm – Namaaz e Maghribain \n\n8:15pm – 9:00pm – Iftar Dinner \n\n9:00pm – 9:10pm – Marshiya \n\n9:10pm – 9:35pm – Majlis – Shahadat of Imam Ali (AS) – Al Hajj Hussein Walji (live speaker) \n\n9:45pm – 10:30pm – Amaal of 21st Eve\, Munajat of Imam Ali (AS)\, Ziyarat of Shab e Qadr
URL:https://www.lajamaat.org/event/19th-night-of-ramadhan-2-2/
LOCATION:SIIJLA\, 7925 Serapis Ave\, Pico Rivera\, CA\, 90660\, United States
CATEGORIES:Wafat
ATTACH;FMTTYPE=image/jpeg:https://www.lajamaat.org/wp-content/uploads/2021/10/2000x1200_event_milad-2.jpg
ORGANIZER;CN="SIIJLA":MAILTO:siijla@lajamaat.org
END:VEVENT
END:VCALENDAR