BEGIN:VCALENDAR
VERSION:2.0
PRODID:-//SIIJLA - ECPv6.8.3//NONSGML v1.0//EN
CALSCALE:GREGORIAN
METHOD:PUBLISH
X-ORIGINAL-URL:https://www.lajamaat.org
X-WR-CALDESC:Events for SIIJLA
REFRESH-INTERVAL;VALUE=DURATION:PT1H
X-Robots-Tag:noindex
X-PUBLISHED-TTL:PT1H
BEGIN:VTIMEZONE
TZID:America/Los_Angeles
BEGIN:DAYLIGHT
TZOFFSETFROM:-0800
TZOFFSETTO:-0700
TZNAME:PDT
DTSTART:20220313T100000
END:DAYLIGHT
BEGIN:STANDARD
TZOFFSETFROM:-0700
TZOFFSETTO:-0800
TZNAME:PST
DTSTART:20221106T090000
END:STANDARD
END:VTIMEZONE
BEGIN:VEVENT
DTSTART;TZID=America/Los_Angeles:20220423T173000
DTEND;TZID=America/Los_Angeles:20220423T221500
DTSTAMP:20260422T033658
CREATED:20220418T045107Z
LAST-MODIFIED:20220424T053114Z
UID:2915-1650735000-1650752100@www.lajamaat.org
SUMMARY:22nd Night of Ramadhan - Shahadat (Day) of Imam Ali (AS)
DESCRIPTION:Program Details:\nIn Person Program & Online \n\n5:30pm – 5:45pm – Surah Yaseen \n\n5:45pm – 5:50pm – Marshiya \n\n5:50pm – 6:15pm – Majlis – Shahadat Day of Imam Ali (AS) – Al Hajj Hussein Walji (live speaker) \n\n6:15pm – 6:35pm – Taboot and Matam \n\n6:35pm – 7:00pm – Ziyarat of Imam Ali AS \n\n7:00pm – 7:30pm – Dua Iftetah \n\n7:45pm – 8:15pm – Namaaz e Maghribain \n\n7:15pm – 7:20pm Announcements\, Ziyarat\, Dua Faraj \n\n8:15pm – 9:00pm – Iftar Dinner \n\n9:00pm – 10:15pm – Dua Jawshan al Kabeer
URL:https://www.lajamaat.org/event/15th-night-of-ramadhan-wiladat-of-imam-hasan-as-2/
LOCATION:SIIJLA\, 7925 Serapis Ave\, Pico Rivera\, CA\, 90660\, United States
CATEGORIES:Wafat
ATTACH;FMTTYPE=image/jpeg:https://www.lajamaat.org/wp-content/uploads/2021/10/2000x1200_event_milad-2.jpg
ORGANIZER;CN="SIIJLA":MAILTO:siijla@lajamaat.org
END:VEVENT
END:VCALENDAR