BEGIN:VCALENDAR
VERSION:2.0
PRODID:-//SIIJLA - ECPv6.8.3//NONSGML v1.0//EN
CALSCALE:GREGORIAN
METHOD:PUBLISH
X-ORIGINAL-URL:https://www.lajamaat.org
X-WR-CALDESC:Events for SIIJLA
REFRESH-INTERVAL;VALUE=DURATION:PT1H
X-Robots-Tag:noindex
X-PUBLISHED-TTL:PT1H
BEGIN:VTIMEZONE
TZID:America/Los_Angeles
BEGIN:DAYLIGHT
TZOFFSETFROM:-0800
TZOFFSETTO:-0700
TZNAME:PDT
DTSTART:20220313T100000
END:DAYLIGHT
BEGIN:STANDARD
TZOFFSETFROM:-0700
TZOFFSETTO:-0800
TZNAME:PST
DTSTART:20221106T090000
END:STANDARD
END:VTIMEZONE
BEGIN:VEVENT
DTSTART;TZID=America/Los_Angeles:20220424T191500
DTEND;TZID=America/Los_Angeles:20220424T230000
DTSTAMP:20260422T033622
CREATED:20220418T050214Z
LAST-MODIFIED:20220424T053258Z
UID:2918-1650827700-1650841200@www.lajamaat.org
SUMMARY:23rd Night of Ramadhan - Laylatul Qadr
DESCRIPTION:Program Details:\nIn Person Program & Online \n\n7:15pm – 7:45pm – Dua Iftetah \n\n7:45pm – 8:15pm – Namaaz e Maghribain \n\n8:15pm – 9:00pm – Iftar Dinner \n\n9:00pm – 9:25pm – Majlis – Al Hajj Hussein Walji (live speaker) \n\n9:30pm – 11:00pm – Amaal of Laylatul Qadr\, Ziyarat of Shab e Qadr
URL:https://www.lajamaat.org/event/19th-night-of-ramadhan-2-2-2/
LOCATION:SIIJLA\, 7925 Serapis Ave\, Pico Rivera\, CA\, 90660\, United States
CATEGORIES:Jashan
ATTACH;FMTTYPE=image/jpeg:https://www.lajamaat.org/wp-content/uploads/2022/04/quran-1.jpeg
ORGANIZER;CN="SIIJLA":MAILTO:siijla@lajamaat.org
END:VEVENT
END:VCALENDAR