BEGIN:VCALENDAR
VERSION:2.0
PRODID:-//SIIJLA - ECPv6.8.3//NONSGML v1.0//EN
CALSCALE:GREGORIAN
METHOD:PUBLISH
X-ORIGINAL-URL:https://www.lajamaat.org
X-WR-CALDESC:Events for SIIJLA
REFRESH-INTERVAL;VALUE=DURATION:PT1H
X-Robots-Tag:noindex
X-PUBLISHED-TTL:PT1H
BEGIN:VTIMEZONE
TZID:America/Los_Angeles
BEGIN:DAYLIGHT
TZOFFSETFROM:-0800
TZOFFSETTO:-0700
TZNAME:PDT
DTSTART:20220313T100000
END:DAYLIGHT
BEGIN:STANDARD
TZOFFSETFROM:-0700
TZOFFSETTO:-0800
TZNAME:PST
DTSTART:20221106T090000
END:STANDARD
END:VTIMEZONE
BEGIN:VEVENT
DTSTART;TZID=America/Los_Angeles:20220430T180000
DTEND;TZID=America/Los_Angeles:20220430T223000
DTSTAMP:20260422T022812
CREATED:20220418T051814Z
LAST-MODIFIED:20220424T053223Z
UID:2923-1651341600-1651357800@www.lajamaat.org
SUMMARY:28th Night of Ramadhan
DESCRIPTION:Program Details:\nIn Person Program & Online \n\n6:00pm – 6:15pm – Dua Khatmul Quran \n\n6:15pm – 6:30pm – Dua Wida \n\n6:30pm – 7:00pm – Dua Iftetah \n\n7:00pm – 7:45pm – Kids’ Ramadhan Workshop Presentation & Awards Ceremony \n\n7:45pm – 7:50pm Announcements\, Ziyarat\, Dua Faraj \n\n7:52pm – Namaaz e Maghribain \n\n8:15pm – 9:00pm – Iftar Dinner \n\n9:00pm – 10:30pm – Chaand Raat/Eid Mela (celebration)
URL:https://www.lajamaat.org/event/15th-night-of-ramadhan-wiladat-of-imam-hasan-as-3/
LOCATION:SIIJLA\, 7925 Serapis Ave\, Pico Rivera\, CA\, 90660\, United States
CATEGORIES:Event
ATTACH;FMTTYPE=image/png:https://www.lajamaat.org/wp-content/uploads/2022/04/Golden-Green-Modern-Ramadan-Kareem-Printable-Poster.png
ORGANIZER;CN="SIIJLA":MAILTO:siijla@lajamaat.org
END:VEVENT
END:VCALENDAR