BEGIN:VCALENDAR
VERSION:2.0
PRODID:-//SIIJLA - ECPv6.8.3//NONSGML v1.0//EN
CALSCALE:GREGORIAN
METHOD:PUBLISH
X-WR-CALNAME:SIIJLA
X-ORIGINAL-URL:https://www.lajamaat.org
X-WR-CALDESC:Events for SIIJLA
REFRESH-INTERVAL;VALUE=DURATION:PT1H
X-Robots-Tag:noindex
X-PUBLISHED-TTL:PT1H
BEGIN:VTIMEZONE
TZID:America/Los_Angeles
BEGIN:DAYLIGHT
TZOFFSETFROM:-0800
TZOFFSETTO:-0700
TZNAME:PDT
DTSTART:20230312T100000
END:DAYLIGHT
BEGIN:STANDARD
TZOFFSETFROM:-0700
TZOFFSETTO:-0800
TZNAME:PST
DTSTART:20231105T090000
END:STANDARD
END:VTIMEZONE
BEGIN:VEVENT
DTSTART;TZID=America/Los_Angeles:20230421T083000
DTEND;TZID=America/Los_Angeles:20230421T110000
DTSTAMP:20260421T112506
CREATED:20230322T060059Z
LAST-MODIFIED:20230421T035712Z
UID:3064-1682065800-1682074800@www.lajamaat.org
SUMMARY:Eid ul Fitr Prayers - Friday\, April 21\, 2023
DESCRIPTION:Program Details:\nIn Person Program & Online \n\n8:30am – 9:00am – Dua Nudba \n\n9:00am – 9:30am – Eid Prayers \n\n9:30am – 10:30am – Eid Breakfast
URL:https://www.lajamaat.org/event/15th-night-of-ramadhan-wiladat-of-imam-hasan-as-3-2-2/
LOCATION:SIIJLA\, 7925 Serapis Ave\, Pico Rivera\, CA\, 90660\, United States
CATEGORIES:Event
ORGANIZER;CN="SIIJLA":MAILTO:siijla@lajamaat.org
END:VEVENT
END:VCALENDAR