BEGIN:VCALENDAR
VERSION:2.0
PRODID:-//SIIJLA - ECPv6.8.3//NONSGML v1.0//EN
CALSCALE:GREGORIAN
METHOD:PUBLISH
X-ORIGINAL-URL:https://www.lajamaat.org
X-WR-CALDESC:Events for SIIJLA
REFRESH-INTERVAL;VALUE=DURATION:PT1H
X-Robots-Tag:noindex
X-PUBLISHED-TTL:PT1H
BEGIN:VTIMEZONE
TZID:America/Los_Angeles
BEGIN:DAYLIGHT
TZOFFSETFROM:-0800
TZOFFSETTO:-0700
TZNAME:PDT
DTSTART:20240310T100000
END:DAYLIGHT
BEGIN:STANDARD
TZOFFSETFROM:-0700
TZOFFSETTO:-0800
TZNAME:PST
DTSTART:20241103T090000
END:STANDARD
END:VTIMEZONE
BEGIN:VEVENT
DTSTART;TZID=America/Los_Angeles:20240323T180000
DTEND;TZID=America/Los_Angeles:20240323T220000
DTSTAMP:20260420T200338
CREATED:20240331T220355Z
LAST-MODIFIED:20240331T220501Z
UID:3158-1711216800-1711231200@www.lajamaat.org
SUMMARY:13th Night of Ramadhan: Saturday\, March 23rd\, 2024 (Birth Anniversary of Imam Hasan AS)
DESCRIPTION:Program Details:\nIn person and Online Program \nSpeaker: Al Hajj Abdul Aziz Dewji \nOnline – Streaming Live: \nyoutube.com/siijlamedia
URL:https://www.lajamaat.org/event/13th-night-of-ramadhan-saturday-march-23rd-2024-birth-anniversary-of-imam-hasan-as/
LOCATION:SIIJLA\, 7925 Serapis Ave\, Pico Rivera\, CA\, 90660\, United States
CATEGORIES:Event,Jashan
ATTACH;FMTTYPE=image/jpeg:https://www.lajamaat.org/wp-content/uploads/2021/10/675x686_SundaySchool_Megamenu4-2.jpg
ORGANIZER;CN="SIIJLA":MAILTO:siijla@lajamaat.org
END:VEVENT
END:VCALENDAR